BEGIN:VCALENDAR
VERSION:2.0
PRODID:-//wp-events-plugin.com//7.2.3.1//EN
TZID:America/New_York
X-WR-TIMEZONE:America/New_York
BEGIN:VEVENT
UID:454@ftcos.org
DTSTART;TZID=America/New_York:20231111T100000
DTEND;TZID=America/New_York:20231111T103000
DTSTAMP:20230305T222405Z
URL:https://ftcos.org/events/weekly-prayer-fellowship-2023-11-11/
SUMMARY:Weekly Prayer Fellowship
DESCRIPTION:You are invited to join our weekly prayer fellowship on Zoom. T
 he meeting id is 834 2278 5874 and the passcode is 802948.
END:VEVENT
BEGIN:VTIMEZONE
TZID:America/New_York
X-LIC-LOCATION:America/New_York
BEGIN:STANDARD
DTSTART:20231105T010000
TZOFFSETFROM:-0400
TZOFFSETTO:-0500
TZNAME:EST
END:STANDARD
END:VTIMEZONE
END:VCALENDAR